BEGIN:VCALENDAR
VERSION:2.0
PRODID:-//LAW ISHIK - ECPv4.9.1.1//NONSGML v1.0//EN
CALSCALE:GREGORIAN
METHOD:PUBLISH
X-WR-CALNAME:LAW ISHIK
X-ORIGINAL-URL:https://ishik.edu.iq/law
X-WR-CALDESC:Events for LAW ISHIK
BEGIN:VEVENT
DTSTART;VALUE=DATE:20161201
DTEND;VALUE=DATE:20161216
DTSTAMP:20191124T022646
CREATED:20161201T081815Z
LAST-MODIFIED:20161201T081815Z
UID:1339-1480550400-1481846399@ishik.edu.iq
SUMMARY:ما هي الدبلوماسية؟
DESCRIPTION:ما هي الدبلوماسية؟ \nPresented by; Dr. Adnan Abdullah \n\n\n	\n
URL:https://ishik.edu.iq/law/event/%d9%85%d8%a7-%d9%87%d9%8a-%d8%a7%d9%84%d8%af%d8%a8%d9%84%d9%88%d9%85%d8%a7%d8%b3%d9%8a%d8%a9%d8%9f/
ATTACH;FMTTYPE=image/png:https://ishik.edu.iq/law/wp-content/uploads/2016/12/Untitled-14-534x462.png
END:VEVENT
END:VCALENDAR