BEGIN:VCALENDAR
VERSION:2.0
PRODID:-//LAW ISHIK - ECPv4.9.1.1//NONSGML v1.0//EN
CALSCALE:GREGORIAN
METHOD:PUBLISH
X-WR-CALNAME:LAW ISHIK
X-ORIGINAL-URL:https://ishik.edu.iq/law
X-WR-CALDESC:Events for LAW ISHIK
BEGIN:VEVENT
DTSTART;TZID=UTC+0:20160705T080000
DTEND;TZID=UTC+0:20160707T170000
DTSTAMP:20191123T054017
CREATED:20151103T102426Z
LAST-MODIFIED:20151103T102426Z
UID:487-1467705600-1467910800@ishik.edu.iq
SUMMARY:National Holiday- Feast of Ramadan (Eid)
DESCRIPTION:\n\n	\n
URL:https://ishik.edu.iq/law/event/national-holiday-feast-of-ramadan-eid/
END:VEVENT
END:VCALENDAR