BEGIN:VCALENDAR
VERSION:2.0
PRODID:-//LAW ISHIK - ECPv4.9.1.1//NONSGML v1.0//EN
CALSCALE:GREGORIAN
METHOD:PUBLISH
X-WR-CALNAME:LAW ISHIK
X-ORIGINAL-URL:https://ishik.edu.iq/law
X-WR-CALDESC:Events for LAW ISHIK
BEGIN:VEVENT
DTSTART;TZID=UTC+0:20151209T080000
DTEND;TZID=UTC+0:20151209T170000
DTSTAMP:20191124T022902
CREATED:20151209T130706Z
LAST-MODIFIED:20151209T130827Z
UID:780-1449648000-1449680400@ishik.edu.iq
SUMMARY:Prof. Dr. Nasir Khalil Seminar
DESCRIPTION:Our Professor Nasir Khalil Jalal\, held a seminar about Factory Contract\, which was necessary for mind opening the students and the lecturers of the Faculty of law. \n \n\n\n	\n
URL:https://ishik.edu.iq/law/event/prof-dr-nasir-khalil-seminar/
ATTACH;FMTTYPE=image/jpeg:https://ishik.edu.iq/law/wp-content/uploads/2015/12/20151203_111428_HDR.jpg
END:VEVENT
END:VCALENDAR