BEGIN:VCALENDAR
VERSION:2.0
PRODID:-//LAW ISHIK - ECPv4.9.1.1//NONSGML v1.0//EN
CALSCALE:GREGORIAN
METHOD:PUBLISH
X-WR-CALNAME:LAW ISHIK
X-ORIGINAL-URL:https://ishik.edu.iq/law
X-WR-CALDESC:Events for LAW ISHIK
BEGIN:VEVENT
DTSTART;TZID=UTC+0:20160701T080000
DTEND;TZID=UTC+0:20160813T170000
DTSTAMP:20191123T053948
CREATED:20151103T102331Z
LAST-MODIFIED:20151103T102331Z
UID:486-1467360000-1471107600@ishik.edu.iq
SUMMARY:SUMMER HOLIDAY
DESCRIPTION:\n\n	\n
URL:https://ishik.edu.iq/law/event/summer-holiday/
END:VEVENT
END:VCALENDAR